BEGIN:VCALENDAR
VERSION:2.0
PRODID:-//ChamberMaster//Event Calendar 2.0//EN
METHOD:PUBLISH
X-PUBLISHED-TTL:P3D
REFRESH-INTERVAL:P3D
CALSCALE:GREGORIAN
BEGIN:VEVENT
DTSTART:20180525T010000Z
DTEND:20180525T030000Z
X-MICROSOFT-CDO-ALLDAYEVENT:FALSE
SUMMARY:I-405 Improvement Project Open House
DESCRIPTION:Please join the Orange County Transportation Authority and the California Department of Transportation to learn about the I-405 freeway construction.\n\n\n\nPresentation topics will include a project overview\, tentative bridge construction schedule\, and an interactive map and Waze app demonstration.
X-ALT-DESC;FMTTYPE=text/html:Please join the Orange County Transportation Authority and the California Department of Transportation to learn about the I-405 freeway construction.<br />\n<br />\nPresentation topics will include a project overview\, tentative bridge construction schedule\, and an interactive map and Waze app demonstration.
LOCATION:VA Long Beach Facility 5901 E. 7th Street Bldg 165\, The Egg Audtiorium Long Beach\, CA 90822
UID:e.2030.4804
SEQUENCE:3
DTSTAMP:20260424T010014Z
URL:http://business.fvchamber.com/events/details/i-405-improvement-project-open-house-4804
END:VEVENT

END:VCALENDAR
