BEGIN:VCALENDAR
VERSION:2.0
PRODID:-//ChamberMaster//Event Calendar 2.0//EN
METHOD:PUBLISH
X-PUBLISHED-TTL:P3D
REFRESH-INTERVAL:P3D
CALSCALE:GREGORIAN
BEGIN:VEVENT
DTSTART:20180601T010000Z
DTEND:20180601T030000Z
X-MICROSOFT-CDO-ALLDAYEVENT:FALSE
SUMMARY:I-405 Improvement Project Open House
DESCRIPTION:Please join the Orange County Transportation Authority and the California Department of Transportation to learn about the I-405 freeway construction.\n\n\n\nPresentation topics will include a project overview\, tentative bridge construction schedule\, and an interactive map and Waze app demonstration.
X-ALT-DESC;FMTTYPE=text/html:Please join the Orange County Transportation Authority and the California Department of Transportation to learn about the I-405 freeway construction.<br />\n<br />\nPresentation topics will include a project overview\, tentative bridge construction schedule\, and an interactive map and Waze app demonstration.
LOCATION:Fountain Valley School District Board Room 10055 Slater Avenue Fountain Valley\, CA 92708
UID:e.2030.4805
SEQUENCE:3
DTSTAMP:20260424T021853Z
URL:http://business.fvchamber.com/events/details/i-405-improvement-project-open-house-05-31-2018-4805
END:VEVENT

END:VCALENDAR
