BEGIN:VCALENDAR
VERSION:2.0
PRODID:-//ChamberMaster//Event Calendar 2.0//EN
METHOD:PUBLISH
X-PUBLISHED-TTL:P3D
REFRESH-INTERVAL:P3D
CALSCALE:GREGORIAN
BEGIN:VEVENT
DTSTART:20190730T190000Z
DTEND:20190730T200000Z
X-MICROSOFT-CDO-ALLDAYEVENT:FALSE
SUMMARY:Hyundai Lunch Series: Motivate Business Luncheon
DESCRIPTION:Join the Fountain Valley of Commerce at the Hyundai Motor America Headquarters for a delicious Networking Lunch & Motivational Presentation from Tony Assali\, owner of Escrow Quick and Best-Selling author of "Catching the White Tiger."
X-ALT-DESC;FMTTYPE=text/html:<strong><span style="color:#800000\;"><span style="font-family:verdana\;"><span style="font-size:16px\;">Join the Fountain Valley of Commerce at the Hyundai Motor America Headquarters for a delicious Networking Lunch &amp\; Motivational Presentation from Tony Assali\, owner of Escrow Quick and Best-Selling author of &quot\;Catching the White Tiger.&quot\;</span></span></span></strong>
LOCATION:Hyundai Motor America 10550 Talbert Ave. Fountain Valley\, CA 92708
UID:e.2030.5133
SEQUENCE:3
DTSTAMP:20260423T054003Z
URL:http://business.fvchamber.com/events/details/hyundai-lunch-series-motivate-business-luncheon-5133
END:VEVENT

END:VCALENDAR
