BEGIN:VCALENDAR
VERSION:2.0
PRODID:-//ChamberMaster//Event Calendar 2.0//EN
METHOD:PUBLISH
X-PUBLISHED-TTL:P3D
REFRESH-INTERVAL:P3D
CALSCALE:GREGORIAN
BEGIN:VEVENT
DTSTART:20191023T190000Z
DTEND:20191023T200000Z
X-MICROSOFT-CDO-ALLDAYEVENT:FALSE
SUMMARY:Hyundai Lunch Series: Activate Business Luncheon
DESCRIPTION:Join the Fountain Valley Chamber of Commerce at the Hyundai Motor America Headquarters for a Delicious Networking Lunch & learn how to build your personal & professional brand with Chamber Members\, Lukas Gemeinhardt and Andrew Shults from MemeTeam Marketing.
X-ALT-DESC;FMTTYPE=text/html:<span style="font-size:16px\;"><span style="font-family:verdana\;"><span style="color:#800000\;"><strong>Join the Fountain Valley Chamber of Commerce at the Hyundai Motor America Headquarters for a Delicious Networking Lunch &amp\; learn how to build your personal &amp\; professional brand with Chamber Members\, Lukas Gemeinhardt and Andrew Shults from MemeTeam Marketing.</strong></span></span></span>
LOCATION:Hyundai Motor America 10550 Talbert Ave. Fountain Valley\, CA 92708
UID:e.2030.5270
SEQUENCE:3
DTSTAMP:20260423T000248Z
URL:http://business.fvchamber.com/events/details/hyundai-lunch-series-activate-business-luncheon-5270
END:VEVENT

END:VCALENDAR
