BEGIN:VCALENDAR
VERSION:2.0
PRODID:-//ChamberMaster//Event Calendar 2.0//EN
METHOD:PUBLISH
X-PUBLISHED-TTL:P3D
REFRESH-INTERVAL:P3D
CALSCALE:GREGORIAN
BEGIN:VEVENT
DTSTART:20160828T140000Z
DTEND:20160828T180000Z
X-MICROSOFT-CDO-ALLDAYEVENT:FALSE
SUMMARY:Hyundai Hope on Wheels 5k & 10k
DESCRIPTION:Hyundai Motor America Hope on Wheels\n\n5k & 10k
X-ALT-DESC;FMTTYPE=text/html:<span style="font-size:18px\;"><strong>Hyundai Motor America Hope on Wheels</strong></span><br />\n<em><strong><span style="font-size:16px\;">5k &amp\; 10k</span></strong></em>
LOCATION:Fountain Valley Recreation Center & Sports Park 16400 Brookhurst Street Fountain Valley
UID:e.2030.2816
SEQUENCE:3
DTSTAMP:20260425T111840Z
URL:http://business.fvchamber.com/events/details/hyundai-hope-on-wheels-5k-10k-08-28-2016-2816
END:VEVENT

END:VCALENDAR
