BEGIN:VCALENDAR
VERSION:2.0
PRODID:-//ChamberMaster//Event Calendar 2.0//EN
METHOD:PUBLISH
X-PUBLISHED-TTL:P3D
REFRESH-INTERVAL:P3D
CALSCALE:GREGORIAN
BEGIN:VEVENT
DTSTART:20160827T180000Z
DTEND:20160827T220000Z
X-MICROSOFT-CDO-ALLDAYEVENT:FALSE
SUMMARY:Hyundai Day at the Park
DESCRIPTION:Hyundai Day at the Park\n\n(following the Tank House parade and ceremony)
X-ALT-DESC;FMTTYPE=text/html:<span style="font-size:18px\;"><strong>Hyundai Day at the Park</strong></span><br />\n<em><strong>(following the Tank House parade and ceremony)</strong></em>
LOCATION:Fountain Valley Sports Park 16400 Brookhurst St. Fountain Valley
UID:e.2030.3832
SEQUENCE:3
DTSTAMP:20260425T111743Z
URL:http://business.fvchamber.com/events/details/hyundai-day-at-the-park-3832
END:VEVENT

END:VCALENDAR
