BEGIN:VCALENDAR
VERSION:2.0
PRODID:-//ChamberMaster//Event Calendar 2.0//EN
METHOD:PUBLISH
X-PUBLISHED-TTL:P3D
REFRESH-INTERVAL:P3D
CALSCALE:GREGORIAN
BEGIN:VEVENT
DTSTART:20211005T170000Z
DTEND:20211005T180000Z
X-MICROSOFT-CDO-ALLDAYEVENT:FALSE
SUMMARY:How to Use Blogging to Grow Your Business- SBA
DESCRIPTION:Adding a blog to your website is a great way to educate current and prospective customers\, improve SEO\, and provide relevant content through social media channels. Learn how to start a blog\, how to use keywords in each post\, and how to choose topics. \n\nYou will receive a link a day before the webinar.
X-ALT-DESC;FMTTYPE=text/html:<p style="margin-top: 0px\; margin-bottom: 10px\; line-height: 23.2px\; font-family: Lato\, Arial\, Helvetica\, sans-serif\; font-size: 16px\;">Adding a blog to your website is a great way to educate current and prospective customers\, improve SEO\, and provide relevant content through social media channels. Learn how to start a blog\, how to use keywords in each post\, and how to choose topics.&nbsp\;</p>\n\n<p style="margin-top: 0px\; margin-bottom: 10px\; line-height: 23.2px\; font-family: Lato\, Arial\, Helvetica\, sans-serif\; font-size: 16px\;">You will receive a link a day before the webinar.&nbsp\;</p>\n
LOCATION:Zoom
UID:e.2030.5388
SEQUENCE:3
DTSTAMP:20260421T065648Z
URL:http://business.fvchamber.com/events/details/how-to-use-blogging-to-grow-your-business-sba-5388
END:VEVENT

END:VCALENDAR
