BEGIN:VCALENDAR
VERSION:2.0
PRODID:-//ChamberMaster//Event Calendar 2.0//EN
METHOD:PUBLISH
X-PUBLISHED-TTL:P3D
REFRESH-INTERVAL:P3D
CALSCALE:GREGORIAN
BEGIN:VEVENT
DTSTART:20211006T170000Z
DTEND:20211006T180000Z
X-MICROSOFT-CDO-ALLDAYEVENT:FALSE
SUMMARY:How to Start a Small Business: Veteran Edition-SBA
DESCRIPTION:If you are a Veteran who is interested in starting your own business\, this workshop is a must! Learn the steps to starting your own business at the "How to Start a Small Business" workshop\, presented by an SBDC Business Consultant. This introductory course will discuss informational topics  such as Being an Entrepreneur\, Business Planning\, Veteran Business Financing options\, the Legal Forms of Organization\, Licensing and Permits\, and Veteran Franchising Opportunities.\n\nYou will receive a link to join this webinar the day before.
X-ALT-DESC;FMTTYPE=text/html:<p style="margin-top: 0px\; margin-bottom: 10px\; line-height: 23.2px\; font-family: Lato\, Arial\, Helvetica\, sans-serif\; font-size: 16px\;">If you are a Veteran who is interested in starting your own business\, this workshop is a must! Learn the steps to starting your own business at the &ldquo\;How to Start a Small Business&rdquo\; workshop\, presented by an SBDC Business Consultant. This introductory course will discuss informational topics&nbsp\; such as Being an Entrepreneur\, Business Planning\, Veteran Business Financing options\, the Legal Forms of Organization\, Licensing and Permits\, and Veteran Franchising Opportunities.</p>\n\n<p style="margin-top: 0px\; margin-bottom: 10px\; line-height: 23.2px\; font-family: Lato\, Arial\, Helvetica\, sans-serif\; font-size: 16px\;">You will receive a link to join this webinar the day before.&nbsp\;</p>\n
LOCATION:Zoom
UID:e.2030.5390
SEQUENCE:3
DTSTAMP:20260421T065521Z
URL:http://business.fvchamber.com/events/details/how-to-start-a-small-business-veteran-edition-sba-5390
END:VEVENT

END:VCALENDAR
