BEGIN:VCALENDAR
VERSION:2.0
PRODID:-//ChamberMaster//Event Calendar 2.0//EN
METHOD:PUBLISH
X-PUBLISHED-TTL:P3D
REFRESH-INTERVAL:P3D
CALSCALE:GREGORIAN
BEGIN:VEVENT
DTSTART:20210901T170000Z
DTEND:20210901T180000Z
X-MICROSOFT-CDO-ALLDAYEVENT:FALSE
SUMMARY:How to Start a Small Business-SBDC
DESCRIPTION:If you are a new or aspiring business owner\, this workshop is a must! Learn the steps to starting your own business at the "How to Start a Small Business" workshop\, presented by an SBDC Business Consultant. This introductory course will discuss informational topics such as Being an Entrepreneur\, Business Planning\, Small Business  Financing\, the Legal Forms of Organization\, Licensing and Permits\, and the No-Cost Services Offered by the Inland Empire SBDC
X-ALT-DESC;FMTTYPE=text/html:If you are a new or aspiring business owner\, this workshop is a must! Learn the steps to starting your own business at the &quot\;How to Start a Small Business&quot\; workshop\, presented by an SBDC Business Consultant. This introductory course will discuss informational topics such as Being an Entrepreneur\, Business Planning\, Small Business&nbsp\; Financing\, the Legal Forms of Organization\, Licensing and Permits\, and the No-Cost Services Offered by the Inland Empire SBDC
LOCATION:Webinar
UID:e.2030.5371
SEQUENCE:3
DTSTAMP:20260421T084007Z
URL:http://business.fvchamber.com/events/details/how-to-start-a-small-business-sbdc-5371
END:VEVENT

END:VCALENDAR
