BEGIN:VCALENDAR
VERSION:2.0
PRODID:-//ChamberMaster//Event Calendar 2.0//EN
METHOD:PUBLISH
X-PUBLISHED-TTL:P3D
REFRESH-INTERVAL:P3D
CALSCALE:GREGORIAN
BEGIN:VEVENT
DTSTART:20220805T010000Z
DTEND:20220805T023000Z
X-MICROSOFT-CDO-ALLDAYEVENT:FALSE
SUMMARY:How to Start a Small Business
DESCRIPTION:Want all the perks of owning your own business? Attend this fast-paced and highly informative workshop and learn how to start your own small business. You'll learn the key steps and processes that every aspiring entrepreneur needs to go through to conceptualize\, create\, and launch a successful business.
X-ALT-DESC;FMTTYPE=text/html:<span style="color: rgb(27\, 27\, 27)\; font-family: &quot\;Source Sans Pro Web&quot\;\, &quot\;Helvetica Neue&quot\;\, Helvetica\, Roboto\, Arial\, sans-serif\; font-size: 18px\; background-color: rgb(255\, 255\, 255)\;">Want all the perks of owning your own business? Attend this fast-paced and highly informative workshop and learn how to start your own small business. You&rsquo\;ll learn the key steps and processes that every aspiring entrepreneur needs to go through to conceptualize\, create\, and launch a successful business.</span>
LOCATION:Zoom
UID:e.2030.5603
SEQUENCE:3
DTSTAMP:20260420T141351Z
URL:http://business.fvchamber.com/events/details/how-to-start-a-small-business-5603
END:VEVENT

END:VCALENDAR
