BEGIN:VCALENDAR
VERSION:2.0
PRODID:-//ChamberMaster//Event Calendar 2.0//EN
METHOD:PUBLISH
X-PUBLISHED-TTL:P3D
REFRESH-INTERVAL:P3D
CALSCALE:GREGORIAN
BEGIN:VEVENT
DTSTART:20220825T170000Z
DTEND:20220825T180000Z
X-MICROSOFT-CDO-ALLDAYEVENT:FALSE
SUMMARY:How to Start a Business for Creative Types\, Idea People\, an Anybody with Passion
DESCRIPTION:In this webinar\, creative business expert Robin Blakely will share how you can transform your professional dreams into a creative business.\n\nHere is what you'll learn:\n\n\n	The importance of determining the focus of your business\n	Understand the math that goes into cash flow\, expenses\, and profits\n	How to build an air-tight business 'Boat' that will keep you afloat\n	How to run your business while protecting your passion
X-ALT-DESC;FMTTYPE=text/html:<p style="box-sizing: inherit\; font-size: 18px\; color: rgb(27\, 27\, 27)\; font-family: &quot\;Source Sans Pro Web&quot\;\, &quot\;Helvetica Neue&quot\;\, Helvetica\, Roboto\, Arial\, sans-serif\; background-color: rgb(255\, 255\, 255)\;">In this webinar\, creative business expert Robin Blakely will share how you can transform your professional dreams into a creative business.</p>\n\n<p style="box-sizing: inherit\; font-size: 18px\; color: rgb(27\, 27\, 27)\; font-family: &quot\;Source Sans Pro Web&quot\;\, &quot\;Helvetica Neue&quot\;\, Helvetica\, Roboto\, Arial\, sans-serif\; background-color: rgb(255\, 255\, 255)\;">Here is what you&rsquo\;ll learn:</p>\n\n<ul style="box-sizing: inherit\; color: rgb(27\, 27\, 27)\; font-family: &quot\;Source Sans Pro Web&quot\;\, &quot\;Helvetica Neue&quot\;\, Helvetica\, Roboto\, Arial\, sans-serif\; font-size: 16.96px\; background-color: rgb(255\, 255\, 255)\;">\n	<li style="box-sizing: inherit\;">The importance&nbsp\;of determining&nbsp\;the focus of your business</li>\n	<li style="box-sizing: inherit\;">Understand the math that goes into cash flow\, expenses\, and profits</li>\n	<li style="box-sizing: inherit\;">How to build an&nbsp\;air-tight business &lsquo\;Boat&rsquo\; that will keep you afloat</li>\n	<li style="box-sizing: inherit\;">How to run your business while protecting your passion</li>\n</ul>\n
LOCATION:Zoom
UID:e.2030.5860
SEQUENCE:3
DTSTAMP:20260420T141547Z
URL:http://business.fvchamber.com/events/details/how-to-start-a-business-for-creative-types-idea-people-an-anybody-with-passion-5860
END:VEVENT

END:VCALENDAR
