BEGIN:VCALENDAR
VERSION:2.0
PRODID:-//ChamberMaster//Event Calendar 2.0//EN
METHOD:PUBLISH
X-PUBLISHED-TTL:P3D
REFRESH-INTERVAL:P3D
CALSCALE:GREGORIAN
BEGIN:VEVENT
DTSTART:20220607T170000Z
DTEND:20220607T180000Z
X-MICROSOFT-CDO-ALLDAYEVENT:FALSE
SUMMARY:How to Social Media to Increase your Online Presence
DESCRIPTION:Want to learn more about how social media can help grow your business? Watch this short webinar!
X-ALT-DESC;FMTTYPE=text/html:<span style="color: rgb(43\, 55\, 77)\; font-family: ModernSans\, Arial\, Helvetica\, sans-serif\; font-size: 16px\; background-color: rgb(255\, 255\, 255)\;">Want to learn more about how social media can help grow your business? Watch this short webinar!</span>
LOCATION:Zoom
UID:e.2030.5584
SEQUENCE:3
DTSTAMP:20260420T185925Z
URL:http://business.fvchamber.com/events/details/how-to-social-media-to-increase-your-online-presence-5584
END:VEVENT

END:VCALENDAR
