BEGIN:VCALENDAR
VERSION:2.0
PRODID:-//ChamberMaster//Event Calendar 2.0//EN
METHOD:PUBLISH
X-PUBLISHED-TTL:P3D
REFRESH-INTERVAL:P3D
CALSCALE:GREGORIAN
BEGIN:VEVENT
DTSTART:20211012T170000Z
DTEND:20211012T180000Z
X-MICROSOFT-CDO-ALLDAYEVENT:FALSE
SUMMARY:How to Get More Sales on Amazon
DESCRIPTION:In this hands-on webinar we will demonstrate how to use PPC advertising to generate more sales and profit. Sellers are getting fewer orders on Amazon\, because of increased competition. We will show you how to take advantage of the competition to generate more sales. Bring all your Amazon pay-per-click (PPC) advertising questions\, and we'll answer them live.
X-ALT-DESC;FMTTYPE=text/html:<span style="color: rgb(20\, 20\, 20)\; font-family: Montserrat\, sans-serif\; font-size: 16px\; orphans: 3\; widows: 3\; background-color: rgb(255\, 255\, 255)\;">In this hands-on webinar we will demonstrate how to use PPC advertising to generate more sales and profit. Sellers are getting fewer orders on Amazon\, because of increased competition. We will show you how to take advantage of the competition to generate more sales. Bring all your Amazon pay-per-click (PPC) advertising questions\, and we&rsquo\;ll answer them live.</span>
LOCATION:Zoom
UID:e.2030.5395
SEQUENCE:3
DTSTAMP:20260421T065214Z
URL:http://business.fvchamber.com/events/details/how-to-get-more-sales-on-amazon-5395
END:VEVENT

END:VCALENDAR
