BEGIN:VCALENDAR
VERSION:2.0
PRODID:-//ChamberMaster//Event Calendar 2.0//EN
METHOD:PUBLISH
X-PUBLISHED-TTL:P3D
REFRESH-INTERVAL:P3D
CALSCALE:GREGORIAN
BEGIN:VEVENT
DTSTART:20220517T170000Z
DTEND:20220517T180000Z
X-MICROSOFT-CDO-ALLDAYEVENT:FALSE
SUMMARY:How to Franchise your Business
DESCRIPTION:When you started your business\, you had a dream to build something great. But it's hard to operate a business and grow it at the same time. Especially when you have limited time\, money\, and people resources. That's why franchising is a great option for just about any industry. Join CEO Tom DuFore to learn about when it may be the right time to franchise your business\, why franchising makes sense and what the process is to franchise.
X-ALT-DESC;FMTTYPE=text/html:<span style="font-family:tahoma\;"><span style="color: rgb(43\, 55\, 77)\; font-size: 16px\; background-color: rgb(255\, 255\, 255)\;">When you started your business\, you had a dream to build something great. But it&#39\;s hard to operate a business and grow it at the same time. Especially when you have limited time\, money\, and people resources. That&#39\;s why franchising is a great option for just about any industry. Join CEO Tom DuFore to learn about when it may be the right time to franchise your business\, why franchising makes sense and what the process is to franchise.</span></span>
LOCATION:Zoom
UID:e.2030.5582
SEQUENCE:3
DTSTAMP:20260420T185743Z
URL:http://business.fvchamber.com/events/details/how-to-franchise-your-business-5582
END:VEVENT

END:VCALENDAR
