BEGIN:VCALENDAR
VERSION:2.0
PRODID:-//ChamberMaster//Event Calendar 2.0//EN
METHOD:PUBLISH
X-PUBLISHED-TTL:P3D
REFRESH-INTERVAL:P3D
CALSCALE:GREGORIAN
BEGIN:VEVENT
DTSTART:20200312T190000Z
DTEND:20200312T203000Z
X-MICROSOFT-CDO-ALLDAYEVENT:FALSE
SUMMARY:How to Adapt to the New AB5 Rule Presentation by SBDC
DESCRIPTION:Free Member Event ....\n\nIn the Presentation\, you will learn the following:\n\n	Assembly Bill 5 changes worker classification criteria\, effective 01.01.20\n	What the "ABC Test" is\, and what the excepted categories are.\n	How to distinguish between Employees and Independent Contractors.\n	Where to find resources to help classify workers.\n\n* SPACE IS LIMITED\, RESERVE YOUR SEAT TODAY by using the following link *\n\nhttps://santaanadistrictsbdc.ecenterdirect.com/events/6492
X-ALT-DESC;FMTTYPE=text/html:<strong style=""><span style="font-family: arial\;"><em><span style="color:#008080\;"><span style="font-size:18px\;">Free Member Event ....</span></span></em><br />\n<u style=""><font color="#800080"><span style="font-size: 14px\;">In the Presentation\, you will learn the following</span></font></u><font color="#800080"><span style="font-size: 14px\;">:</span></font></span></strong>\n<ul>\n	<li><span style="color:#800080\;"><span style="font-size:14px\;"><span style="font-family:arial\;"><span style="font-size:12px\;">Assembly Bill 5 changes worker classification criteria\, effective 01.01.20</span></span></span></span></li>\n	<li><span style="color:#800080\;"><span style="font-size:14px\;"><span style="font-family:arial\;"><span style="font-size:12px\;">What the &quot\;ABC Test&quot\; is\, and what the excepted categories are.</span></span></span></span></li>\n	<li><span style="color:#800080\;"><span style="font-size:14px\;"><span style="font-family:arial\;"><span style="font-size:12px\;">How to distinguish between Employees and Independent Contractors.</span></span></span></span></li>\n	<li><font color="#800080" face="arial"><span style="font-size: 12px\;">Where to find resources to help classify workers.</span></font></li>\n</ul>\n<font color="#800080" face="arial"><span style="font-size: 12px\;">* SPACE IS LIMITED\, RESERVE YOUR SEAT TODAY by using the following link *</span></font><br />\n<a href="https://santaanadistrictsbdc.ecenterdirect.com/events/6492">https://santaanadistrictsbdc.ecenterdirect.com/events/6492</a><br />\n<br />\n&nbsp\;
LOCATION:America's SBDC - OC/IE Network The Digital Media Center 1300 S. Bristol Street Santa Ana\, CA 92704
UID:e.2030.5294
SEQUENCE:3
DTSTAMP:20260422T161642Z
URL:http://business.fvchamber.com/events/details/how-to-adapt-to-the-new-ab5-rule-presentation-by-sbdc-5294
END:VEVENT

END:VCALENDAR
