BEGIN:VCALENDAR
VERSION:2.0
PRODID:-//ChamberMaster//Event Calendar 2.0//EN
METHOD:PUBLISH
X-PUBLISHED-TTL:P3D
REFRESH-INTERVAL:P3D
CALSCALE:GREGORIAN
BEGIN:VEVENT
DTSTART:20170922T013000Z
DTEND:20170922T030000Z
X-MICROSOFT-CDO-ALLDAYEVENT:FALSE
SUMMARY:Homelessness in the Community Town Hall Meeting
DESCRIPTION:Fountain Valley Police Department presents\n\nHomelessness in the Community\n\nTown Hall Meeting
X-ALT-DESC;FMTTYPE=text/html:<strong><span style="font-size:14px\;"><em>Fountain Valley Police Department presents</em></span><br />\n<span style="font-size:16px\;">Homelessness in the Community<br />\nTown Hall Meeting</span></strong>
LOCATION:Fountain of Life Fellowship Church 9120 Heil Avenue Fountain Valley
UID:e.2030.4213
SEQUENCE:3
DTSTAMP:20260424T142532Z
URL:http://business.fvchamber.com/events/details/homelessness-in-the-community-town-hall-meeting-4213
END:VEVENT

END:VCALENDAR
