BEGIN:VCALENDAR
VERSION:2.0
PRODID:-//ChamberMaster//Event Calendar 2.0//EN
METHOD:PUBLISH
X-PUBLISHED-TTL:P3D
REFRESH-INTERVAL:P3D
CALSCALE:GREGORIAN
BEGIN:VEVENT
DTSTART:20161213T193000Z
DTEND:20161213T213000Z
X-MICROSOFT-CDO-ALLDAYEVENT:FALSE
SUMMARY:Holiday Luncheon & Gift Boutique
DESCRIPTION:Holiday Luncheon & Gift Boutique\n\nFeaturing the Fountain Valley High School Troubadours
X-ALT-DESC;FMTTYPE=text/html:<span style="color:#FF0000\;"><span style="font-size: 16px\;"><strong>Holiday Luncheon &amp\; Gift Boutique</strong></span></span><br />\n<em><span style="color:#000000\;"><span style="font-size: 16px\;"><strong>Featuring the Fountain Valley High School Troubadours</strong></span></span></em>
LOCATION:Mile Square Golf Course Banquet Room 10401 Warner Avenue Fountain Valley
UID:e.2030.2344
SEQUENCE:3
DTSTAMP:20260425T034117Z
URL:http://business.fvchamber.com/events/details/holiday-luncheon-gift-boutique-2344
END:VEVENT

END:VCALENDAR
