BEGIN:VCALENDAR
VERSION:2.0
PRODID:-//ChamberMaster//Event Calendar 2.0//EN
METHOD:PUBLISH
X-PUBLISHED-TTL:P3D
REFRESH-INTERVAL:P3D
CALSCALE:GREGORIAN
BEGIN:VEVENT
DTSTART:20171212T190000Z
DTEND:20171212T220000Z
X-MICROSOFT-CDO-ALLDAYEVENT:FALSE
SUMMARY:Holiday Luncheon & Gift Boutique
DESCRIPTION:Holiday Luncheon & Gift Boutique\n\nFountain Valley High School Troubadours\n\nBackground music from the Fulton Middle School music program
X-ALT-DESC;FMTTYPE=text/html:<span style="font-size:18px\;"><strong>Holiday Luncheon &amp\; Gift Boutique</strong><br />\n<em><span style="font-size:16px\;">Fountain Valley High School Troubadours<br />\nBackground music from the Fulton Middle School music program</span></em></span>
LOCATION:Mile Square Golf Course Banquet Room 10401 Warner Ave. Fountain Valley
UID:e.2030.4020
SEQUENCE:3
DTSTAMP:20260424T111326Z
URL:http://business.fvchamber.com/events/details/holiday-luncheon-gift-boutique-12-12-2017-4020
END:VEVENT

END:VCALENDAR
