BEGIN:VCALENDAR
VERSION:2.0
PRODID:-//ChamberMaster//Event Calendar 2.0//EN
METHOD:PUBLISH
X-PUBLISHED-TTL:P3D
REFRESH-INTERVAL:P3D
CALSCALE:GREGORIAN
BEGIN:VEVENT
DTSTART:20221216T200000Z
DTEND:20221216T220000Z
X-MICROSOFT-CDO-ALLDAYEVENT:FALSE
SUMMARY:Holiday Luncheon & Chamber Board Installation
DESCRIPTION:Join us for our Annual Holiday luncheon & Chamber Board Installation
X-ALT-DESC;FMTTYPE=text/html:<em><span style="font-size:22px\;"><span style="color:#B22222\;"><span style="font-family:tahoma\;"><strong>Join us for our Annual Holiday luncheon &amp\; Chamber Board Installation</strong></span></span></span></em>
LOCATION:Fountain Valley Recreational Center 16400 Brookhurst Street. Fountain Valley\, CA 92708
UID:e.2030.5871
SEQUENCE:3
DTSTAMP:20260420T071715Z
URL:http://business.fvchamber.com/events/details/holiday-luncheon-chamber-board-installation-5871
END:VEVENT

END:VCALENDAR
