BEGIN:VCALENDAR
VERSION:2.0
PRODID:-//ChamberMaster//Event Calendar 2.0//EN
METHOD:PUBLISH
X-PUBLISHED-TTL:P3D
REFRESH-INTERVAL:P3D
CALSCALE:GREGORIAN
BEGIN:VEVENT
DTSTART:20151215T193000Z
DTEND:20151215T213000Z
X-MICROSOFT-CDO-ALLDAYEVENT:FALSE
SUMMARY:Holiday Luncheon
DESCRIPTION:Holiday Luncheon
X-ALT-DESC;FMTTYPE=text/html:<span style="font-size:18px\;"><em><strong><span style="font-family: times new roman\;">Holiday Luncheon</span></strong></em></span>
LOCATION:Mile Square Golf Course Banquet Room 10401 Warner Ave. Fountain Valley
UID:e.2030.1742
SEQUENCE:3
DTSTAMP:20260425T221731Z
URL:http://business.fvchamber.com/events/details/holiday-luncheon-12-15-2015-1742
END:VEVENT

END:VCALENDAR
