BEGIN:VCALENDAR
VERSION:2.0
PRODID:-//ChamberMaster//Event Calendar 2.0//EN
METHOD:PUBLISH
X-PUBLISHED-TTL:P3D
REFRESH-INTERVAL:P3D
CALSCALE:GREGORIAN
BEGIN:VEVENT
DTSTART:20191018T170000Z
DTEND:20191019T230000Z
X-MICROSOFT-CDO-ALLDAYEVENT:FALSE
SUMMARY:Holiday Boutique at Huntington Harbour Mall
DESCRIPTION:The Huntington Harbor Philharmonic Committee presents the 13th Annual Holiday Boutique at the Huntington Harbour Mall. Shop from over 30 vendors\, featuring handmade and unique items\, clothing\, jewelry\, accessories\, home decor\, and much more. Also purchase Opportunity Drawing tickets for amazing gift baskets and items like Ducks tickets and a vacation in Hawaii.
X-ALT-DESC;FMTTYPE=text/html:The Huntington Harbor Philharmonic Committee presents the 13th Annual Holiday Boutique at the Huntington Harbour Mall. Shop from over 30 vendors\, featuring handmade and unique items\, clothing\, jewelry\, accessories\, home decor\, and much more. Also purchase Opportunity Drawing tickets for amazing gift baskets and items like Ducks tickets and a vacation in Hawaii.&nbsp\;
LOCATION:Huntington Harbour Mall 16889 Algonquin Street Huntington Beach\, CA 92649 ?
UID:e.2030.5138
SEQUENCE:3
DTSTAMP:20260423T014048Z
URL:http://business.fvchamber.com/events/details/holiday-boutique-at-huntington-harbour-mall-5138
END:VEVENT

END:VCALENDAR
