BEGIN:VCALENDAR
VERSION:2.0
PRODID:-//ChamberMaster//Event Calendar 2.0//EN
METHOD:PUBLISH
X-PUBLISHED-TTL:P3D
REFRESH-INTERVAL:P3D
CALSCALE:GREGORIAN
BEGIN:VEVENT
DTSTART:20210908T190000Z
DTEND:20210908T200000Z
X-MICROSOFT-CDO-ALLDAYEVENT:FALSE
SUMMARY:Healthcare Innovation- Basics of Finance & Funding Sources-SBDC
DESCRIPTION:This webinar is for startups in the healthcare industry and will focus on the basics of finance\, funding\, investor expectations\, & evaluating your team.\n\nParticipants will learn from experts & entrepreneurs & gain experience working on real projects that have the potential to become investment-ready ventures. Whether you have an idea\, a prototype\, an existing healthcare startup\, or if you have clinical or academic expertise & want to bring your healthcare ideas to market\, this series is for you. You will learn systematic approaches to anticipate & solve entrepreneurial problems on the road to launching an investable startup.
X-ALT-DESC;FMTTYPE=text/html:<p style="box-sizing: border-box\; margin: 0px 0px 20px\; color: rgb(97\, 97\, 97)\; font-size: 14px\; line-height: 1.8\; font-family: Roboto\, sans-serif\; background-color: rgb(255\, 255\, 255)\;">This webinar is for startups in the healthcare industry and will focus on the basics of finance\, funding\, investor expectations\, &amp\; evaluating your team.</p>\n\n<p style="box-sizing: border-box\; margin: 0px 0px 20px\; color: rgb(97\, 97\, 97)\; font-size: 14px\; line-height: 1.8\; font-family: Roboto\, sans-serif\; background-color: rgb(255\, 255\, 255)\;">Participants will learn from experts &amp\; entrepreneurs &amp\; gain experience working on real projects that have the potential to become investment-ready ventures. Whether you have an idea\, a prototype\, an existing healthcare startup\, or if you have clinical or academic expertise &amp\; want to bring your healthcare ideas to market\, this series is for you. You will learn systematic approaches to anticipate &amp\; solve entrepreneurial problems on the road to launching an investable startup.</p>\n
LOCATION:Webinar
UID:e.2030.5376
SEQUENCE:3
DTSTAMP:20260421T090123Z
URL:http://business.fvchamber.com/events/details/healthcare-innovation-basics-of-finance-funding-sources-sbdc-5376
END:VEVENT

END:VCALENDAR
