BEGIN:VCALENDAR
VERSION:2.0
PRODID:-//ChamberMaster//Event Calendar 2.0//EN
METHOD:PUBLISH
X-PUBLISHED-TTL:P3D
REFRESH-INTERVAL:P3D
CALSCALE:GREGORIAN
BEGIN:VEVENT
DTSTART:20150826T003000Z
DTEND:20150826T023000Z
X-MICROSOFT-CDO-ALLDAYEVENT:FALSE
SUMMARY:Health & Wellness in the ACA World
DESCRIPTION:Vietnamese American Chamber of Commerce presents\n\nHealth & Wellness in the ACA World
X-ALT-DESC;FMTTYPE=text/html:<span style="font-size:14px\;"><span style="font-family: arial\;"><strong><em>Vietnamese American Chamber of Commerce presents</em><br />\n<span style="font-size:18px\;">Health &amp\; Wellness in the ACA World</span></strong></span></span>
LOCATION:Kaiser Permanente Garden Grove Medical Offices 12100 S. Euclid St. Garden Grove\, CA 92840
UID:e.2030.2166
SEQUENCE:3
DTSTAMP:20260426T041940Z
URL:http://business.fvchamber.com/events/details/health-wellness-in-the-aca-world-08-25-2015-2166
END:VEVENT

END:VCALENDAR
