BEGIN:VCALENDAR
VERSION:2.0
PRODID:-//ChamberMaster//Event Calendar 2.0//EN
METHOD:PUBLISH
X-PUBLISHED-TTL:P3D
REFRESH-INTERVAL:P3D
CALSCALE:GREGORIAN
BEGIN:VEVENT
DTSTART:20190914T160000Z
DTEND:20190914T190000Z
X-MICROSOFT-CDO-ALLDAYEVENT:FALSE
SUMMARY:Health & Wellness Fair
DESCRIPTION:Join the Fountain Valley Chamber of Commerce at our own parking lot for our annual Fall Health & Wellness Fair. There will be Free Screenings\, Giveaways and More! See ya There!\n\n\n\nVendor Booth Price Options:\n\n\n\nSupporting Sponsor: $300\n\n-Premuim Booth Placement. Inclusion in Event Marketing\, Access to Attendee Database\, Inclusion in Event Raffle Giveaway (Prize must be donated)\n\n\n\nMember Booth: $60\n\n-A 12' x 12' Booth Area within the Event\n\n\n\nNon-Member Booth: $100\n\n-A 12' x 12' Booth Area within the Event
X-ALT-DESC;FMTTYPE=text/html:<span style="font-size:16px\;"><span style="font-family:verdana\;"><span style="color:#8B4513\;"><strong><span style="white-space: pre-wrap\; background-color: rgb(255\, 255\, 255)\;">Join the Fountain Valley Chamber of Commerce at our own parking lot for our annual Fall Health &amp\; Wellness Fair. There will be Free Screenings\, Giveaways and More! See ya There!<br />\n<br />\n<u>Vendor Booth Price Options:</u><br />\n<br />\nSupporting Sponsor: $300</span><br />\n-Premuim Booth Placement. Inclusion in Event Marketing\, Access to Attendee Database\, Inclusion in Event Raffle Giveaway (Prize must be donated)<br />\n<br />\nMember Booth: $60<br />\n-A 12&#39\; x 12&#39\; Booth Area within the Event<br />\n<br />\nNon-Member Booth: $100<br />\n-A 12&#39\; x 12&#39\; Booth Area within the Event</strong></span></span></span>
LOCATION:Fountain Valley School District Parking Lot 10055 Slater Ave. Fountain Valley\, CA 92708
UID:e.2030.5098
SEQUENCE:3
DTSTAMP:20260423T024138Z
URL:http://business.fvchamber.com/events/details/health-wellness-fair-5098
END:VEVENT

END:VCALENDAR
