BEGIN:VCALENDAR
VERSION:2.0
PRODID:-//ChamberMaster//Event Calendar 2.0//EN
METHOD:PUBLISH
X-PUBLISHED-TTL:P3D
REFRESH-INTERVAL:P3D
CALSCALE:GREGORIAN
BEGIN:VEVENT
DTSTART:20180925T180000Z
DTEND:20180925T220000Z
X-MICROSOFT-CDO-ALLDAYEVENT:FALSE
SUMMARY:Health & Wellness Fair
DESCRIPTION:Only 2 spaces left on the patio but you must bring a maximum 10' x 10' canopy.\n\n\n\nHealth & Wellness Fair\n\nSponsorships Available:                   Exhibitor Space Available:\n\nEvent Sponsor: $500                         Members: $50\n\nSupporting Sponsor: $250               Non-Members: $75\n\n(Non-Member Registration starts July 13\, 2018)
X-ALT-DESC;FMTTYPE=text/html:<em><span style="font-size:18px\;"><strong>Only 2 spaces left on the patio but you must bring a maximum 10&#39\; x 10&#39\; canopy.</strong></span></em><br />\n<br />\n<span style="font-size:14px\;"><strong><span style="font-size:16px\;">Health &amp\; Wellness Fair<br />\n<u><span style="font-size:14px\;">Sponsorships Available:&nbsp\; &nbsp\; &nbsp\; &nbsp\; &nbsp\; &nbsp\; &nbsp\; &nbsp\; &nbsp\; &nbsp\;Exhibitor Space Available:</span></u><br />\n<em><span style="font-size:14px\;">Event Sponsor: $500&nbsp\; &nbsp\; &nbsp\; &nbsp\; &nbsp\; &nbsp\; &nbsp\; &nbsp\; &nbsp\; &nbsp\; &nbsp\; &nbsp\; &nbsp\;Members: $50</span></em><br />\n<em><span style="font-size:14px\;">Supporting Sponsor: $250&nbsp\; &nbsp\; &nbsp\; &nbsp\; &nbsp\; &nbsp\; &nbsp\; &nbsp\;Non-Members: $75</span></em></span></strong></span><br />\n<em style="color: rgb(51\, 51\, 51)\; font-family: sans-serif\, Arial\, Verdana\, &quot\;Trebuchet MS&quot\;\; font-size: 14px\; background-color: rgb(255\, 255\, 255)\;"><span style="font-size: 16px\;">(Non-Member Registration starts July 13\, 2018)</span></em>
LOCATION:Fountain Valley Recreation Center 16400 Brookhurst St. Fountain Valley
UID:e.2030.4029
SEQUENCE:3
DTSTAMP:20260423T203820Z
URL:http://business.fvchamber.com/events/details/health-wellness-fair-4029
END:VEVENT

END:VCALENDAR
