BEGIN:VCALENDAR
VERSION:2.0
PRODID:-//ChamberMaster//Event Calendar 2.0//EN
METHOD:PUBLISH
X-PUBLISHED-TTL:P3D
REFRESH-INTERVAL:P3D
CALSCALE:GREGORIAN
BEGIN:VEVENT
DTSTART:20160819T000000Z
DTEND:20160819T020000Z
X-MICROSOFT-CDO-ALLDAYEVENT:FALSE
SUMMARY:Health Atlast 3-Year Anniversary Ribbon Cutting
DESCRIPTION:Health Atlast\n\n3 Year Anniversary Ribbon Cutting
X-ALT-DESC;FMTTYPE=text/html:<span style="font-size:18px\;"><strong>Health Atlast</strong></span><br />\n<span style="font-size:16px\;"><em><strong>3 Year Anniversary Ribbon Cutting</strong></em></span>
LOCATION:10956 Warner Avenue Fountaian Valley
UID:e.2030.2823
SEQUENCE:3
DTSTAMP:20260425T112301Z
URL:http://business.fvchamber.com/events/details/health-atlast-3-year-anniversary-ribbon-cutting-08-18-2016-2823
END:VEVENT

END:VCALENDAR
