BEGIN:VCALENDAR
VERSION:2.0
PRODID:-//ChamberMaster//Event Calendar 2.0//EN
METHOD:PUBLISH
X-PUBLISHED-TTL:P3D
REFRESH-INTERVAL:P3D
CALSCALE:GREGORIAN
BEGIN:VEVENT
DTSTART;VALUE=DATE:20171123
DTEND;VALUE=DATE:20171124
TRANSP:TRANSPARENT
X-MICROSOFT-CDO-ALLDAYEVENT:TRUE
SUMMARY:Happy Thanksgiving
DESCRIPTION:Happy Thanksgiving
X-ALT-DESC;FMTTYPE=text/html:<span style="font-size:16px\;"><strong>Happy Thanksgiving</strong></span>
LOCATION:
UID:e.2030.4229
SEQUENCE:3
DTSTAMP:20260424T110808Z
URL:http://business.fvchamber.com/events/details/happy-thanksgiving-4229
END:VEVENT

END:VCALENDAR
