BEGIN:VCALENDAR
VERSION:2.0
PRODID:-//ChamberMaster//Event Calendar 2.0//EN
METHOD:PUBLISH
X-PUBLISHED-TTL:P3D
REFRESH-INTERVAL:P3D
CALSCALE:GREGORIAN
BEGIN:VEVENT
DTSTART;VALUE=DATE:20151126
DTEND;VALUE=DATE:20151127
TRANSP:TRANSPARENT
X-MICROSOFT-CDO-ALLDAYEVENT:TRUE
SUMMARY:Happy Thanksgiving
DESCRIPTION:Chamber Office Closed
X-ALT-DESC;FMTTYPE=text/html:Chamber Office Closed
LOCATION:
UID:e.2030.2173
SEQUENCE:3
DTSTAMP:20260426T011753Z
URL:http://business.fvchamber.com/events/details/happy-thanksgiving-11-26-2015-2173
END:VEVENT

END:VCALENDAR
