BEGIN:VCALENDAR
VERSION:2.0
PRODID:-//ChamberMaster//Event Calendar 2.0//EN
METHOD:PUBLISH
X-PUBLISHED-TTL:P3D
REFRESH-INTERVAL:P3D
CALSCALE:GREGORIAN
BEGIN:VEVENT
DTSTART;VALUE=DATE:20160508
DTEND;VALUE=DATE:20160509
TRANSP:TRANSPARENT
X-MICROSOFT-CDO-ALLDAYEVENT:TRUE
SUMMARY:Happy Mother's Day
DESCRIPTION:Happy Mother's Day
X-ALT-DESC;FMTTYPE=text/html:<span style="font-size:16px\;"><span style="color: rgb(0\, 0\, 128)\;"><strong>Happy Mother&#39\;s Day</strong></span></span>
LOCATION:
UID:e.2030.2354
SEQUENCE:3
DTSTAMP:20260425T141830Z
URL:http://business.fvchamber.com/events/details/happy-mother-s-day-05-08-2016-2354
END:VEVENT

END:VCALENDAR
