BEGIN:VCALENDAR
VERSION:2.0
PRODID:-//ChamberMaster//Event Calendar 2.0//EN
METHOD:PUBLISH
X-PUBLISHED-TTL:P3D
REFRESH-INTERVAL:P3D
CALSCALE:GREGORIAN
BEGIN:VEVENT
DTSTART;VALUE=DATE:20160704
DTEND;VALUE=DATE:20160705
TRANSP:TRANSPARENT
X-MICROSOFT-CDO-ALLDAYEVENT:TRUE
SUMMARY:Happy July 4th HOLIDAY
DESCRIPTION:Happy July 4th Independence Day\n\nChamber Office Closed
X-ALT-DESC;FMTTYPE=text/html:<span style="font-size:16px\;"><strong><span style="color:#000080\;">Happy July 4th Independence Day</span><br />\n<em><span style="font-size:14px\;">Chamber Office Closed</span></em></strong></span>
LOCATION:
UID:e.2030.2357
SEQUENCE:3
DTSTAMP:20260425T111745Z
URL:http://business.fvchamber.com/events/details/happy-july-4th-holiday-07-04-2016-2357
END:VEVENT

END:VCALENDAR
