BEGIN:VCALENDAR
VERSION:2.0
PRODID:-//ChamberMaster//Event Calendar 2.0//EN
METHOD:PUBLISH
X-PUBLISHED-TTL:P3D
REFRESH-INTERVAL:P3D
CALSCALE:GREGORIAN
BEGIN:VEVENT
DTSTART;VALUE=DATE:20151225
DTEND;VALUE=DATE:20160102
TRANSP:TRANSPARENT
X-MICROSOFT-CDO-ALLDAYEVENT:TRUE
SUMMARY:Happy Holidays-FV Chamber Office Closed
DESCRIPTION:The Fountain Valley Chamber Office will be December 25th thru January 1\, 2016.
X-ALT-DESC;FMTTYPE=text/html:The Fountain Valley Chamber Office will be December 25th thru January 1\, 2016.
LOCATION:
UID:e.2030.2363
SEQUENCE:3
DTSTAMP:20260425T204737Z
URL:http://business.fvchamber.com/events/details/happy-holidays-fv-chamber-office-closed-12-25-2015-2363
END:VEVENT

END:VCALENDAR
