BEGIN:VCALENDAR
VERSION:2.0
PRODID:-//ChamberMaster//Event Calendar 2.0//EN
METHOD:PUBLISH
X-PUBLISHED-TTL:P3D
REFRESH-INTERVAL:P3D
CALSCALE:GREGORIAN
BEGIN:VEVENT
DTSTART:20151027T183000Z
DTEND:20151027T203000Z
X-MICROSOFT-CDO-ALLDAYEVENT:FALSE
SUMMARY:Guest Presenter Wing Lam Luncheon
DESCRIPTION:Speaker/Presenter: Wing Lam\n\nOwner of Wahoo's Fish Taco\n\nHyundai Speaker Series #3
X-ALT-DESC;FMTTYPE=text/html:Speaker/Presenter: Wing Lam<br />\nOwner of Wahoo&#39\;s Fish Taco<br />\nHyundai Speaker Series #3
LOCATION:David L. Baker Golf Course Banquet Room 10410 Edinger Ave. Fountain Valley\, CA 92708
UID:e.2030.1739
SEQUENCE:3
DTSTAMP:20260426T011834Z
URL:http://business.fvchamber.com/events/details/guest-presenter-wing-lam-luncheon-10-27-2015-1739
END:VEVENT

END:VCALENDAR
