BEGIN:VCALENDAR
VERSION:2.0
PRODID:-//ChamberMaster//Event Calendar 2.0//EN
METHOD:PUBLISH
X-PUBLISHED-TTL:P3D
REFRESH-INTERVAL:P3D
CALSCALE:GREGORIAN
BEGIN:VEVENT
DTSTART:20220118T180000Z
DTEND:20220118T200000Z
X-MICROSOFT-CDO-ALLDAYEVENT:FALSE
SUMMARY:Grow Your Solo Business- 10 Power Tips
DESCRIPTION:How can you Grow Your Solo business and still live the life you want? What are the success tips and strategies that you can use to have your business serve you\, instead of you serving your business. Billion-dollar brands are nice\, but so are smaller companies that generate cash flow and a great lifestyle for their owners.
X-ALT-DESC;FMTTYPE=text/html:<span style="color: rgb(43\, 55\, 77)\; font-family: ModernSans\, Arial\, Helvetica\, sans-serif\; font-size: 16px\; background-color: rgb(255\, 255\, 255)\;">How can you Grow Your Solo business and still live the life you want? What are the success tips and strategies that you can use to have your business serve you\, instead of you serving your business. Billion-dollar brands are nice\, but so are smaller companies that generate cash flow and a great lifestyle for their owners.</span>
LOCATION:Online Webinar
UID:e.2030.5415
SEQUENCE:3
DTSTAMP:20260421T032737Z
URL:http://business.fvchamber.com/events/details/grow-your-solo-business-10-power-tips-5415
END:VEVENT

END:VCALENDAR
