BEGIN:VCALENDAR
VERSION:2.0
PRODID:-//ChamberMaster//Event Calendar 2.0//EN
METHOD:PUBLISH
X-PUBLISHED-TTL:P3D
REFRESH-INTERVAL:P3D
CALSCALE:GREGORIAN
BEGIN:VEVENT
DTSTART:20200201T200000Z
DTEND:20200202T010000Z
X-MICROSOFT-CDO-ALLDAYEVENT:FALSE
SUMMARY:Grocery Outlet's One Year Anniversary Celebration!
DESCRIPTION:Join the Fountain Valley Chamber as we celebrate one of our most active members\; Grocery Outlet\, with their very own 1 Year Anniversary! Free Food\, Drawings\, and Prizes will be at the event. Hope to you there!
X-ALT-DESC;FMTTYPE=text/html:<strong><span style="color:#B22222\;"><span style="font-family:times new roman\;"><span style="font-family:verdana\;"><span style="font-size:18px\;">Join the Fountain Valley Chamber as we celebrate one of our most active members\; Grocery Outlet\, with their very own 1 Year Anniversary! Free Food\, Drawings\, and Prizes will be at the event. Hope to you there!</span></span></span></span></strong>
LOCATION:18920 Brookhurst St. Fountain Valley\, CA 92708
UID:e.2030.5286
SEQUENCE:3
DTSTAMP:20260422T174214Z
URL:http://business.fvchamber.com/events/details/grocery-outlet-s-one-year-anniversary-celebration-5286
END:VEVENT

END:VCALENDAR
