BEGIN:VCALENDAR
VERSION:2.0
PRODID:-//ChamberMaster//Event Calendar 2.0//EN
METHOD:PUBLISH
X-PUBLISHED-TTL:P3D
REFRESH-INTERVAL:P3D
CALSCALE:GREGORIAN
BEGIN:VEVENT
DTSTART:20190117T164000Z
DTEND:20190117T180000Z
X-MICROSOFT-CDO-ALLDAYEVENT:FALSE
SUMMARY:Grocery Outlet Bargain Market's Grand Opening & Ribbon Cutting
DESCRIPTION:Fountain Valley's ALL NEW Grocery Outlet Bargain Market\n\n~:~:~  Grand Opening & Ribbon Cutting Celebration  ~:~:~\n\n\n\nFREE Giveaways\n\nFREE Drawings\n\nand\, LOTS OF FUN!!!
X-ALT-DESC;FMTTYPE=text/html:<span style="font-size:16px\;">Fountain Valley&#39\;s ALL NEW <span style="color:#B22222\;"><strong>Grocery Outlet Bargain Market</strong></span><br />\n~:~:~&nbsp\;<u><strong> Grand Opening &amp\; Ribbon Cutting Celebration</strong></u>&nbsp\; ~:~:~</span><br />\n<br />\n<strong><em><span style="font-size:16px\;"><span style="color:#B22222\;">FREE Giveaways<br />\nFREE Drawings<br />\nand\, LOTS OF FUN!!!</span></span></em></strong>
LOCATION:18920 Brookhurst Street Fountain Valley\, CA 92708
UID:e.2030.5095
SEQUENCE:3
DTSTAMP:20260423T134234Z
URL:http://business.fvchamber.com/events/details/grocery-outlet-bargain-market-s-grand-opening-ribbon-cutting-5095
END:VEVENT

END:VCALENDAR
