BEGIN:VCALENDAR
VERSION:2.0
PRODID:-//ChamberMaster//Event Calendar 2.0//EN
METHOD:PUBLISH
X-PUBLISHED-TTL:P3D
REFRESH-INTERVAL:P3D
CALSCALE:GREGORIAN
BEGIN:VEVENT
DTSTART:20220129T190000Z
DTEND:20220129T230000Z
X-MICROSOFT-CDO-ALLDAYEVENT:FALSE
SUMMARY:Grocery Outlet 3 year Anniversary
DESCRIPTION:Help Grocery Outlet celebrate 3 years of being part of this amazing community!\n\nThere will be a giveaway every 3 hours\, a local DJ playing music\, and a wheel of bargains. Get a FREE slice of pizza with a $15 purchase!
X-ALT-DESC;FMTTYPE=text/html:<span style="font-size:20px\;"><span style="color:#B22222\;"><span style="font-family:verdana\;"><strong>Help Grocery Outlet celebrate 3 years of being part of this amazing community!<br />\nThere will be a giveaway every 3 hours\, a local DJ playing music\, and a wheel of bargains. Get a FREE slice of pizza with a $15 purchase!</strong></span></span></span>
LOCATION:18920 Brookhurst St Fountain Valley\, CA 92708
UID:e.2030.5426
SEQUENCE:3
DTSTAMP:20260421T032410Z
URL:http://business.fvchamber.com/events/details/grocery-outlet-3-year-anniversary-5426
END:VEVENT

END:VCALENDAR
