BEGIN:VCALENDAR
VERSION:2.0
PRODID:-//ChamberMaster//Event Calendar 2.0//EN
METHOD:PUBLISH
X-PUBLISHED-TTL:P3D
REFRESH-INTERVAL:P3D
CALSCALE:GREGORIAN
BEGIN:VEVENT
DTSTART:20210609T230000Z
DTEND:20210610T000000Z
X-MICROSOFT-CDO-ALLDAYEVENT:FALSE
SUMMARY:Grand Opening of Restoration Pros
DESCRIPTION:Come join us for the Grand Opening of Restoration Pros
X-ALT-DESC;FMTTYPE=text/html:<span style="font-size:26px\;"><span style="color:#0000FF\;"><span style="font-family:tahoma\;"><strong>Come join us for the Grand Opening of Restoration Pros</strong></span></span></span>
LOCATION:5242 McFadden Ave. Huntington Beach\, CA 92649
UID:e.2030.5355
SEQUENCE:3
DTSTAMP:20260421T160418Z
URL:http://business.fvchamber.com/events/details/grand-opening-of-restoration-pros-5355
END:VEVENT

END:VCALENDAR
