BEGIN:VCALENDAR
VERSION:2.0
PRODID:-//ChamberMaster//Event Calendar 2.0//EN
METHOD:PUBLISH
X-PUBLISHED-TTL:P3D
REFRESH-INTERVAL:P3D
CALSCALE:GREGORIAN
BEGIN:VEVENT
DTSTART:20170419T003000Z
DTEND:20170419T020000Z
X-MICROSOFT-CDO-ALLDAYEVENT:FALSE
SUMMARY:Grace First Insurance Ribbon Cuitting
DESCRIPTION:Grace First Insurance Agency\n\nRibbon Cutting
X-ALT-DESC;FMTTYPE=text/html:<span style="font-size:18px\;"><strong>Grace First Insurance Agency</strong></span><br />\n<span style="font-size:16px\;"><em><strong>Ribbon Cutting</strong></em></span>
LOCATION:10231 Slater Ave.\, #200 Fountain Valley\, CA 92708
UID:e.2030.3882
SEQUENCE:3
DTSTAMP:20260424T230726Z
URL:http://business.fvchamber.com/events/details/grace-first-insurance-ribbon-cuitting-3882
END:VEVENT

END:VCALENDAR
