BEGIN:VCALENDAR
VERSION:2.0
PRODID:-//ChamberMaster//Event Calendar 2.0//EN
METHOD:PUBLISH
X-PUBLISHED-TTL:P3D
REFRESH-INTERVAL:P3D
CALSCALE:GREGORIAN
BEGIN:VEVENT
DTSTART:20211111T163000Z
DTEND:20211111T173000Z
X-MICROSOFT-CDO-ALLDAYEVENT:FALSE
SUMMARY:Government Affairs Council
DESCRIPTION:Government Affairs Council
X-ALT-DESC;FMTTYPE=text/html:<span style="font-size:18px\;"><strong>Government Affairs Council</strong></span>
LOCATION:TBD
UID:e.2030.351
SEQUENCE:3
DTSTAMP:20260421T050905Z
URL:http://business.fvchamber.com/events/details/government-affairs-council-11-11-2021-351
END:VEVENT

END:VCALENDAR
