BEGIN:VCALENDAR
VERSION:2.0
PRODID:-//ChamberMaster//Event Calendar 2.0//EN
METHOD:PUBLISH
X-PUBLISHED-TTL:P3D
REFRESH-INTERVAL:P3D
CALSCALE:GREGORIAN
BEGIN:VEVENT
DTSTART:20171109T163000Z
DTEND:20171109T173000Z
X-MICROSOFT-CDO-ALLDAYEVENT:FALSE
SUMMARY:Government Affairs Council
DESCRIPTION:Government Affairs Council\n\nMonitors business-related legislation at the local\, state and federal levels and measures its possible effects on the business community. This group also helps with the Legislative Breakfast in May or June and a Candidates Forum in election years. Meets 2nd Thursday of every month from 8:30 to 9:30am
X-ALT-DESC;FMTTYPE=text/html:<span style="font-size:18px\;"><strong>Government Affairs Council</strong></span><br />\n<em>Monitors business-related legislation at the local\, state and federal levels and measures its possible effects on the business community. This group also helps with the Legislative Breakfast in May or June and a Candidates Forum in election years. Meets 2nd Thursday of every month from 8:30 to 9:30am</em>
LOCATION:Carmel Village 17077 San Mateo Street Fountain Valley\, CA 92708
UID:e.2030.303
SEQUENCE:3
DTSTAMP:20260424T125514Z
URL:http://business.fvchamber.com/events/details/government-affairs-council-11-09-2017-303
END:VEVENT

END:VCALENDAR
