BEGIN:VCALENDAR
VERSION:2.0
PRODID:-//ChamberMaster//Event Calendar 2.0//EN
METHOD:PUBLISH
X-PUBLISHED-TTL:P3D
REFRESH-INTERVAL:P3D
CALSCALE:GREGORIAN
BEGIN:VEVENT
DTSTART:20220908T153000Z
DTEND:20220908T163000Z
X-MICROSOFT-CDO-ALLDAYEVENT:FALSE
SUMMARY:Government Affairs Council
DESCRIPTION:Government Affairs Council\n\nThis month is a special meeting about the Candidates Forum
X-ALT-DESC;FMTTYPE=text/html:<span style="font-size:18px\;"><strong>Government Affairs Council<br />\nThis month is a special meeting about the Candidates Forum</strong></span>
LOCATION:The Chamber Office
UID:e.2030.361
SEQUENCE:3
DTSTAMP:20260420T135650Z
URL:http://business.fvchamber.com/events/details/government-affairs-council-09-08-2022-361
END:VEVENT

END:VCALENDAR
