BEGIN:VCALENDAR
VERSION:2.0
PRODID:-//ChamberMaster//Event Calendar 2.0//EN
METHOD:PUBLISH
X-PUBLISHED-TTL:P3D
REFRESH-INTERVAL:P3D
CALSCALE:GREGORIAN
BEGIN:VEVENT
DTSTART:20160811T153000Z
DTEND:20160811T163000Z
X-MICROSOFT-CDO-ALLDAYEVENT:FALSE
SUMMARY:Government Affairs Council
DESCRIPTION:Government Affairs Council
X-ALT-DESC;FMTTYPE=text/html:<span style="font-size:18px\;"><strong>Government Affairs Council</strong></span>
LOCATION:Fountain Valley Chamber of Commerce 10055 Slater Ave.\, Ste. 250 Fountain Valley\, CA 92708
UID:e.2030.288
SEQUENCE:3
DTSTAMP:20260425T111934Z
URL:http://business.fvchamber.com/events/details/government-affairs-council-08-11-2016-288
END:VEVENT

END:VCALENDAR
