BEGIN:VCALENDAR
VERSION:2.0
PRODID:-//ChamberMaster//Event Calendar 2.0//EN
METHOD:PUBLISH
X-PUBLISHED-TTL:P3D
REFRESH-INTERVAL:P3D
CALSCALE:GREGORIAN
BEGIN:VEVENT
DTSTART:20210513T153000Z
DTEND:20210513T163000Z
X-MICROSOFT-CDO-ALLDAYEVENT:FALSE
SUMMARY:Government Affairs Council
DESCRIPTION:Government Affairs Council\n\nMonthly Legislative Meeting
X-ALT-DESC;FMTTYPE=text/html:<span style="font-size:18px\;"><strong>Government Affairs Council</strong><br />\n<em>Monthly Legislative Meeting</em></span>
LOCATION:Fountain Valley City Hall Front Conference Room 10200 Slater Ave. Fountain Valley\, CA 92708
UID:e.2030.345
SEQUENCE:3
DTSTAMP:20260421T160311Z
URL:http://business.fvchamber.com/events/details/government-affairs-council-05-13-2021-345
END:VEVENT

END:VCALENDAR
