BEGIN:VCALENDAR
VERSION:2.0
PRODID:-//ChamberMaster//Event Calendar 2.0//EN
METHOD:PUBLISH
X-PUBLISHED-TTL:P3D
REFRESH-INTERVAL:P3D
CALSCALE:GREGORIAN
BEGIN:VEVENT
DTSTART:20230209T163000Z
DTEND:20230209T173000Z
X-MICROSOFT-CDO-ALLDAYEVENT:FALSE
SUMMARY:Government Affairs Council
DESCRIPTION:Government Affairs Council
X-ALT-DESC;FMTTYPE=text/html:<span style="font-size:18px\;"><strong>Government Affairs Council</strong></span>
LOCATION:TBD
UID:e.2030.366
SEQUENCE:3
DTSTAMP:20260420T050945Z
URL:http://business.fvchamber.com/events/details/government-affairs-council-02-09-2023-366
END:VEVENT

END:VCALENDAR
