BEGIN:VCALENDAR
VERSION:2.0
PRODID:-//ChamberMaster//Event Calendar 2.0//EN
METHOD:PUBLISH
X-PUBLISHED-TTL:P3D
REFRESH-INTERVAL:P3D
CALSCALE:GREGORIAN
BEGIN:VEVENT
DTSTART:20200405T000000Z
DTEND:20200405T040000Z
X-MICROSOFT-CDO-ALLDAYEVENT:FALSE
SUMMARY:Golden West College Gala
DESCRIPTION:The Golden West College Foundation Board of Directors request the pleasure of your company.\n\n\n\nAn Evening With The Stars\n\n\n\nNo Host Cocktails\n\nSilent Auction\n\nDinner & Dancing\n\nEntertainment provided by Tijuana Dogs\n\nComplimentary Valet Parking
X-ALT-DESC;FMTTYPE=text/html:<strong><span style="color:#000080\;"><span style="font-family:verdana\;"><span style="font-size:16px\;">The Golden West College Foundation Board of Directors request the pleasure of your company.<br />\n<br />\nAn Evening With The Stars<br />\n<br />\nNo Host Cocktails<br />\nSilent Auction<br />\nDinner &amp\; Dancing<br />\nEntertainment provided by Tijuana Dogs<br />\nComplimentary Valet Parking</span></span></span></strong>
LOCATION:The Waterfront Beach Resort\, a Hilton Hotel 21100 Pacific Coast Highway\, Huntington Beach. CA
UID:e.2030.5302
SEQUENCE:3
DTSTAMP:20260422T143321Z
URL:http://business.fvchamber.com/events/details/golden-west-college-gala-5302
END:VEVENT

END:VCALENDAR
