BEGIN:VCALENDAR
VERSION:2.0
PRODID:-//ChamberMaster//Event Calendar 2.0//EN
METHOD:PUBLISH
X-PUBLISHED-TTL:P3D
REFRESH-INTERVAL:P3D
CALSCALE:GREGORIAN
BEGIN:VEVENT
DTSTART:20200322T010000Z
DTEND:20200322T050000Z
X-MICROSOFT-CDO-ALLDAYEVENT:FALSE
SUMMARY:FVCF Poker Tournament
DESCRIPTION:Charity Poker Tournament - Saturday March 21\, 2020\n\nAll In for Fountain Valley!  Join the FVCF for a fun night of Poker and support your community on Saturday\, March 21!  No Limit Texas Hold'em Tournament. All registration proceeds* are donated to the Fountain Valley non profit or school group of your choice! \n\n               ****Online Registration is now OPEN.****\n\n           We will accept walk up registrations starting at 5:15 pm the day of the event.
X-ALT-DESC;FMTTYPE=text/html:<h1 class="headline" style="box-sizing: border-box\; border: 0px none\; font-family: Montserrat\; color: rgb(98\, 97\, 94)\; font-size: 1.75em\; background-color: rgba(255\, 255\, 255\, 0.7)\; text-align: center\;">Charity Poker Tournament - Saturday March 21\, 2020</h1>\n\n<h2 style="box-sizing: border-box\; margin-top: 0.167em\; border: 0px none\; font-family: Montserrat\; color: rgb(49\, 60\, 105)\; font-size: 1.35em\; background-color: rgba(255\, 255\, 255\, 0.7)\; text-align: center\;">All In for Fountain Valley! &nbsp\;Join the FVCF for a fun night of Poker and support your community on Saturday\, March 21! &nbsp\;No Limit Texas Hold&rsquo\;em Tournament. All registration proceeds* are donated to the Fountain Valley non profit or school group of your choice!&nbsp\;</h2>\n\n<h2 style="box-sizing: border-box\; margin-top: 0.167em\; border: 0px none\; font-family: Montserrat\; color: rgb(49\, 60\, 105)\; font-size: 1.35em\; background-color: rgba(255\, 255\, 255\, 0.7)\; text-align: center\;">&nbsp\; &nbsp\; &nbsp\; &nbsp\; &nbsp\; &nbsp\; &nbsp\; &nbsp\;****Online Registration is now OPEN.****</h2>\n\n<h2 style="box-sizing: border-box\; margin-top: 0.167em\; border: 0px none\; font-family: Montserrat\; color: rgb(49\, 60\, 105)\; font-size: 1.35em\; background-color: rgba(255\, 255\, 255\, 0.7)\; text-align: center\;">&nbsp\; &nbsp\; &nbsp\; &nbsp\; &nbsp\; &nbsp\;We will accept walk up registrations starting at 5:15 pm the day of the event.&nbsp\;&nbsp\;</h2>\n
LOCATION:The Jasmine at Founders Village 17911 Bushard St. Fountain Valley\, CA 92708
UID:e.2030.5306
SEQUENCE:3
DTSTAMP:20260422T160650Z
URL:http://business.fvchamber.com/events/details/fvcf-poker-tournament-5306
END:VEVENT

END:VCALENDAR
