BEGIN:VCALENDAR
VERSION:2.0
PRODID:-//ChamberMaster//Event Calendar 2.0//EN
METHOD:PUBLISH
X-PUBLISHED-TTL:P3D
REFRESH-INTERVAL:P3D
CALSCALE:GREGORIAN
BEGIN:VEVENT
DTSTART:20181014T010000Z
DTEND:20181014T040000Z
X-MICROSOFT-CDO-ALLDAYEVENT:FALSE
SUMMARY:FV Rotary Club Ed Arnold Volunteer Awards
DESCRIPTION:FV Rotary Club Ed Arnold Volunteer Awards Gala
X-ALT-DESC;FMTTYPE=text/html:<span style="font-size:14px\;"><strong>FV Rotary Club Ed Arnold Volunteer Awards Gala</strong></span>
LOCATION:
UID:e.2030.4373
SEQUENCE:3
DTSTAMP:20260423T180228Z
URL:http://business.fvchamber.com/events/details/fv-rotary-club-ed-arnold-volunteer-awards-4373
END:VEVENT

END:VCALENDAR
