BEGIN:VCALENDAR
VERSION:2.0
PRODID:-//ChamberMaster//Event Calendar 2.0//EN
METHOD:PUBLISH
X-PUBLISHED-TTL:P3D
REFRESH-INTERVAL:P3D
CALSCALE:GREGORIAN
BEGIN:VEVENT
DTSTART;VALUE=DATE:20160206
DTEND;VALUE=DATE:20160207
TRANSP:TRANSPARENT
X-MICROSOFT-CDO-ALLDAYEVENT:TRUE
SUMMARY:FV Fit Body Boot Camp Fun Run/Walk
DESCRIPTION:Fountain Valley Fit Body Book Camp\n\n5k Fun Run/Walk\n\nSuperhero themed
X-ALT-DESC;FMTTYPE=text/html:<div>Fountain Valley Fit Body Book Camp<br />\n5k Fun Run/Walk</div>\n\n<div>Superhero themed</div>\n
LOCATION:Fountain Valley Recreation Center & Sports Park 16400 Brookhurst St. (at Heil) Fountain Valley
UID:e.2030.2659
SEQUENCE:3
DTSTAMP:20260425T185737Z
URL:http://business.fvchamber.com/events/details/fv-fit-body-boot-camp-fun-run-walk-02-06-2016-2659
END:VEVENT

END:VCALENDAR
