BEGIN:VCALENDAR
VERSION:2.0
PRODID:-//ChamberMaster//Event Calendar 2.0//EN
METHOD:PUBLISH
X-PUBLISHED-TTL:P3D
REFRESH-INTERVAL:P3D
CALSCALE:GREGORIAN
BEGIN:VEVENT
DTSTART:20180203T160000Z
DTEND:20180203T180000Z
X-MICROSOFT-CDO-ALLDAYEVENT:FALSE
SUMMARY:FV Fit Body Boot Camp 5k Fun Run / Walk
DESCRIPTION:Fountain Valley Fit Body Boot Camp\n\n5k Fun Run / Walk\n\nSuperhero Themed
X-ALT-DESC;FMTTYPE=text/html:<span style="font-size:14px\;"><strong>Fountain Valley Fit Body Boot Camp</strong></span><br />\n<span style="font-size:16px\;"><strong>5k Fun Run / Walk</strong><br />\n<span style="font-size:12px\;"><em>Superhero Themed</em></span></span>
LOCATION:Fountain Valley Recreation Center & Sports Park 16400 Brookhurst St. Fountain Valley
UID:e.2030.4239
SEQUENCE:3
DTSTAMP:20260424T051339Z
URL:http://business.fvchamber.com/events/details/fv-fit-body-boot-camp-5k-fun-run-walk-4239
END:VEVENT

END:VCALENDAR
