BEGIN:VCALENDAR
VERSION:2.0
PRODID:-//ChamberMaster//Event Calendar 2.0//EN
METHOD:PUBLISH
X-PUBLISHED-TTL:P3D
REFRESH-INTERVAL:P3D
CALSCALE:GREGORIAN
BEGIN:VEVENT
DTSTART:20180517T003000Z
DTEND:20180517T023000Z
X-MICROSOFT-CDO-ALLDAYEVENT:FALSE
SUMMARY:FV Fit Body Boot Camp 5-Year Anniversary
DESCRIPTION:FV Fit Body Boot Camp\n\n5-year Anniversary Party
X-ALT-DESC;FMTTYPE=text/html:<span style="font-size:18px\;"><strong>FV Fit Body Boot Camp</strong></span><br />\n<span style="font-size:16px\;"><em><strong>5-year Anniversary Party</strong></em></span>
LOCATION:16560 Harbor Blvd.\, #D Fountain Valley
UID:e.2030.4668
SEQUENCE:3
DTSTAMP:20260424T010727Z
URL:http://business.fvchamber.com/events/details/fv-fit-body-boot-camp-5-year-anniversary-4668
END:VEVENT

END:VCALENDAR
